BEGIN:VCALENDAR
VERSION:2.0
PRODID:-//Baptist Church Sanathnagar - ECPv6.15.15//NONSGML v1.0//EN
CALSCALE:GREGORIAN
METHOD:PUBLISH
X-WR-CALNAME:Baptist Church Sanathnagar
X-ORIGINAL-URL:https://baptistchurchsanathnagar.org
X-WR-CALDESC:Events for Baptist Church Sanathnagar
REFRESH-INTERVAL;VALUE=DURATION:PT1H
X-Robots-Tag:noindex
X-PUBLISHED-TTL:PT1H
BEGIN:VTIMEZONE
TZID:UTC
BEGIN:STANDARD
TZOFFSETFROM:+0000
TZOFFSETTO:+0000
TZNAME:UTC
DTSTART:20220101T000000
END:STANDARD
END:VTIMEZONE
BEGIN:VEVENT
DTSTART;TZID=UTC:20230513T080000
DTEND;TZID=UTC:20230513T170000
DTSTAMP:20260419T183338
CREATED:20231205T065225Z
LAST-MODIFIED:20231205T072907Z
UID:1742-1683964800-1683997200@baptistchurchsanathnagar.org
SUMMARY:Family Outing
DESCRIPTION:Event Pictures
URL:https://baptistchurchsanathnagar.org/event/family-outing/
LOCATION:Baptist Church Sanathnagar\, 3rd Ln\, Czech Colony\, Sanath Nagar\, Hyderabad\, Telangana\, Hyderabad\, Telanagana\, 500018\, India
CATEGORIES:Outings
ATTACH;FMTTYPE=image/jpeg:https://baptistchurchsanathnagar.org/wp-content/uploads/2021/04/IMG-20230503-WA0002.jpg
END:VEVENT
END:VCALENDAR